<PAMDataset>
  <GeoTransform> -1.3100000000000000e+02,  6.6720984876155853e-02,  0.0000000000000000e+00,  3.1120000839233398e+01,  0.0000000000000000e+00, -6.6618911921977997e-02</GeoTransform>
  <PAMRasterBand band="1">
    <NoDataValue>-1.00000000000000E+00</NoDataValue>
  </PAMRasterBand>
  <PAMRasterBand band="2">
    <NoDataValue>-1.00000000000000E+00</NoDataValue>
  </PAMRasterBand>
  <PAMRasterBand band="3">
    <NoDataValue>-1.00000000000000E+00</NoDataValue>
  </PAMRasterBand>
</PAMDataset>
