<PAMDataset>
  <GeoTransform>  1.1794000244140625e+02,  6.6709257662296295e-02,  0.0000000000000000e+00,  4.9340000152587891e+01,  0.0000000000000000e+00, -6.6680327057838440e-02</GeoTransform>
  <PAMRasterBand band="1">
    <NoDataValue>-1.00000000000000E+00</NoDataValue>
  </PAMRasterBand>
  <PAMRasterBand band="2">
    <NoDataValue>-1.00000000000000E+00</NoDataValue>
  </PAMRasterBand>
  <PAMRasterBand band="3">
    <NoDataValue>-1.00000000000000E+00</NoDataValue>
  </PAMRasterBand>
</PAMDataset>
