<PAMDataset>
  <GeoTransform>  1.0726000213623047e+02,  6.6657826304435730e-02,  0.0000000000000000e+00,  4.9200000762939453e+01,  0.0000000000000000e+00, -6.6660553216934204e-02</GeoTransform>
  <PAMRasterBand band="1">
    <NoDataValue>-1.00000000000000E+00</NoDataValue>
  </PAMRasterBand>
  <PAMRasterBand band="2">
    <NoDataValue>-1.00000000000000E+00</NoDataValue>
  </PAMRasterBand>
  <PAMRasterBand band="3">
    <NoDataValue>-1.00000000000000E+00</NoDataValue>
  </PAMRasterBand>
</PAMDataset>
