<PAMDataset>
  <GeoTransform> -1.5680999755859375e+02,  6.6666655242443085e-02,  0.0000000000000000e+00,  2.4129999160766602e+01,  0.0000000000000000e+00, -6.6653989255428314e-02</GeoTransform>
  <PAMRasterBand band="1">
    <NoDataValue>-1.00000000000000E+00</NoDataValue>
  </PAMRasterBand>
  <PAMRasterBand band="2">
    <NoDataValue>-1.00000000000000E+00</NoDataValue>
  </PAMRasterBand>
  <PAMRasterBand band="3">
    <NoDataValue>-1.00000000000000E+00</NoDataValue>
  </PAMRasterBand>
</PAMDataset>
