<PAMDataset>
  <GeoTransform> -1.9319000244140625e+02,  6.6637381911277771e-02,  0.0000000000000000e+00, -5.0000000000000000e+00,  0.0000000000000000e+00, -6.6679105162620544e-02</GeoTransform>
  <PAMRasterBand band="1">
    <NoDataValue>-1.00000000000000E+00</NoDataValue>
  </PAMRasterBand>
  <PAMRasterBand band="2">
    <NoDataValue>-1.00000000000000E+00</NoDataValue>
  </PAMRasterBand>
  <PAMRasterBand band="3">
    <NoDataValue>-1.00000000000000E+00</NoDataValue>
  </PAMRasterBand>
</PAMDataset>
