<PAMDataset>
  <GeoTransform> -1.9797000122070312e+02,  6.6599428653717041e-02,  0.0000000000000000e+00, -5.0000000000000000e+00,  0.0000000000000000e+00, -6.6593408584594727e-02</GeoTransform>
  <PAMRasterBand band="1">
    <NoDataValue>-1.00000000000000E+00</NoDataValue>
  </PAMRasterBand>
  <PAMRasterBand band="2">
    <NoDataValue>-1.00000000000000E+00</NoDataValue>
  </PAMRasterBand>
  <PAMRasterBand band="3">
    <NoDataValue>-1.00000000000000E+00</NoDataValue>
  </PAMRasterBand>
</PAMDataset>
