<PAMDataset>
  <GeoTransform>  6.9239997863769531e+01,  6.6656976938247681e-02,  0.0000000000000000e+00,  2.3030000686645508e+01,  0.0000000000000000e+00, -6.6777780652046204e-02</GeoTransform>
  <PAMRasterBand band="1">
    <NoDataValue>-1.00000000000000E+00</NoDataValue>
  </PAMRasterBand>
  <PAMRasterBand band="2">
    <NoDataValue>-1.00000000000000E+00</NoDataValue>
  </PAMRasterBand>
  <PAMRasterBand band="3">
    <NoDataValue>-1.00000000000000E+00</NoDataValue>
  </PAMRasterBand>
</PAMDataset>
