<PAMDataset>
  <GeoTransform>  1.0052999877929688e+02,  6.6621609032154083e-02,  0.0000000000000000e+00,  2.8799999237060547e+01,  0.0000000000000000e+00, -6.6676214337348938e-02</GeoTransform>
  <PAMRasterBand band="1">
    <NoDataValue>-1.00000000000000E+00</NoDataValue>
  </PAMRasterBand>
  <PAMRasterBand band="2">
    <NoDataValue>-1.00000000000000E+00</NoDataValue>
  </PAMRasterBand>
  <PAMRasterBand band="3">
    <NoDataValue>-1.00000000000000E+00</NoDataValue>
  </PAMRasterBand>
</PAMDataset>
