<PAMDataset>
  <GeoTransform>  1.2924000549316406e+02,  6.6671788692474365e-02,  0.0000000000000000e+00,  4.7529998779296875e+01,  0.0000000000000000e+00, -6.6717945039272308e-02</GeoTransform>
  <PAMRasterBand band="1">
    <NoDataValue>-1.00000000000000E+00</NoDataValue>
  </PAMRasterBand>
  <PAMRasterBand band="2">
    <NoDataValue>-1.00000000000000E+00</NoDataValue>
  </PAMRasterBand>
  <PAMRasterBand band="3">
    <NoDataValue>-1.00000000000000E+00</NoDataValue>
  </PAMRasterBand>
</PAMDataset>
