<PAMDataset>
  <GeoTransform>  8.8160003662109375e+01,  6.6648796200752258e-02,  0.0000000000000000e+00,  2.8780000686645508e+01,  0.0000000000000000e+00, -6.6610649228096008e-02</GeoTransform>
  <PAMRasterBand band="1">
    <NoDataValue>-1.00000000000000E+00</NoDataValue>
  </PAMRasterBand>
  <PAMRasterBand band="2">
    <NoDataValue>-1.00000000000000E+00</NoDataValue>
  </PAMRasterBand>
  <PAMRasterBand band="3">
    <NoDataValue>-1.00000000000000E+00</NoDataValue>
  </PAMRasterBand>
</PAMDataset>
