<PAMDataset>
  <GeoTransform>  1.0941999816894531e+02,  6.6651880741119385e-02,  0.0000000000000000e+00,  4.3369998931884766e+01,  0.0000000000000000e+00, -6.6653922200202942e-02</GeoTransform>
  <PAMRasterBand band="1">
    <NoDataValue>-1.00000000000000E+00</NoDataValue>
  </PAMRasterBand>
  <PAMRasterBand band="2">
    <NoDataValue>-1.00000000000000E+00</NoDataValue>
  </PAMRasterBand>
  <PAMRasterBand band="3">
    <NoDataValue>-1.00000000000000E+00</NoDataValue>
  </PAMRasterBand>
</PAMDataset>
