<PAMDataset>
  <GeoTransform>  7.1790000915527344e+01,  6.6594831645488739e-02,  0.0000000000000000e+00,  2.9870000839233398e+01,  0.0000000000000000e+00, -6.6674940288066864e-02</GeoTransform>
  <PAMRasterBand band="1">
    <NoDataValue>-1.00000000000000E+00</NoDataValue>
  </PAMRasterBand>
  <PAMRasterBand band="2">
    <NoDataValue>-1.00000000000000E+00</NoDataValue>
  </PAMRasterBand>
  <PAMRasterBand band="3">
    <NoDataValue>-1.00000000000000E+00</NoDataValue>
  </PAMRasterBand>
</PAMDataset>
